BEGIN:VCALENDAR
VERSION:2.0
PRODID:-//Just Say Yes - ECPv6.15.18//NONSGML v1.0//EN
CALSCALE:GREGORIAN
METHOD:PUBLISH
X-ORIGINAL-URL:https://jsyfruitveggies.org
X-WR-CALDESC:Events for Just Say Yes
REFRESH-INTERVAL;VALUE=DURATION:PT1H
X-Robots-Tag:noindex
X-PUBLISHED-TTL:PT1H
BEGIN:VTIMEZONE
TZID:UTC
BEGIN:STANDARD
TZOFFSETFROM:+0000
TZOFFSETTO:+0000
TZNAME:UTC
DTSTART:20160101T000000
END:STANDARD
END:VTIMEZONE
BEGIN:VEVENT
DTSTART;TZID=UTC:20170711T110000
DTEND;TZID=UTC:20170711T120000
DTSTAMP:20260421T064941
CREATED:20170616T204609Z
LAST-MODIFIED:20170616T204609Z
UID:9209-1499770800-1499774400@jsyfruitveggies.org
SUMMARY:Nutrition Workshop & Cooking Demo at United Church of Warsaw\, Warsaw\, NY (Wyoming County)
DESCRIPTION:Join nutrition educator Emma Denton as she presents an interactive workshop covering a nutrition-related topic.  She will also prepare a fruit or vegetable recipe so you can taste something new\, delicious and nutritious\, learn some cooking techniques\, and bring home low-cost recipe ideas!
URL:https://jsyfruitveggies.org/workshop/nutrition-workshop-cooking-demo-united-church-warsaw-warsaw-ny-wyoming-county-10/2017-07-11/
LOCATION:Warsaw Food Pantry\, 10-22 S. Main Street\, Warsaw\, NY\, 14569\, United States
CATEGORIES:Rochester
END:VEVENT
END:VCALENDAR