BEGIN:VCALENDAR
VERSION:2.0
PRODID:-//Just Say Yes - ECPv6.15.18//NONSGML v1.0//EN
CALSCALE:GREGORIAN
METHOD:PUBLISH
X-ORIGINAL-URL:https://jsyfruitveggies.org
X-WR-CALDESC:Events for Just Say Yes
REFRESH-INTERVAL;VALUE=DURATION:PT1H
X-Robots-Tag:noindex
X-PUBLISHED-TTL:PT1H
BEGIN:VTIMEZONE
TZID:UTC
BEGIN:STANDARD
TZOFFSETFROM:+0000
TZOFFSETTO:+0000
TZNAME:UTC
DTSTART:20160101T000000
END:STANDARD
END:VTIMEZONE
BEGIN:VEVENT
DTSTART;TZID=UTC:20170316T113000
DTEND;TZID=UTC:20170316T123000
DTSTAMP:20260424T044417
CREATED:20170317T020038Z
LAST-MODIFIED:20170317T020038Z
UID:8740-1489663800-1489667400@jsyfruitveggies.org
SUMMARY:JSY Nutrition Education Workshop: Friendship House\, Middlesex\, Yates
DESCRIPTION:Join Nutritionist\, Jessica\, as she presents a fun workshop covering an exciting nutrition-related topic. She will prepare a delicious and healthy JSY recipe. Come taste a sample and leave with some new cooking techniques to prepare the recipe at home.
URL:https://jsyfruitveggies.org/workshop/jsy-nutrition-education-workshop-friendship-house-middlesex-yates/2017-03-16/
END:VEVENT
END:VCALENDAR