BEGIN:VCALENDAR
VERSION:2.0
PRODID:-//Just Say Yes - ECPv6.15.18//NONSGML v1.0//EN
CALSCALE:GREGORIAN
METHOD:PUBLISH
X-WR-CALNAME:Just Say Yes
X-ORIGINAL-URL:https://jsyfruitveggies.org
X-WR-CALDESC:Events for Just Say Yes
REFRESH-INTERVAL;VALUE=DURATION:PT1H
X-Robots-Tag:noindex
X-PUBLISHED-TTL:PT1H
BEGIN:VTIMEZONE
TZID:UTC
BEGIN:STANDARD
TZOFFSETFROM:+0000
TZOFFSETTO:+0000
TZNAME:UTC
DTSTART:20150101T000000
END:STANDARD
END:VTIMEZONE
BEGIN:VEVENT
DTSTART;TZID=UTC:20160415T110000
DTEND;TZID=UTC:20160415T120000
DTSTAMP:20260420T145418
CREATED:20160318T235430Z
LAST-MODIFIED:20160318T235430Z
UID:6122-1460718000-1460721600@jsyfruitveggies.org
SUMMARY:FREE JSY Nutrition Workshop and Recipe Demo @ University United Methodist Church Food Pantry\, Syracuse\, Onondaga County
DESCRIPTION:Join JSY Registered Dietitian Nutritionist Deb for an interactive nutrition education workshop and recipe demonstration.  Come share your recipes and ideas for eating healthier as we talk about ways to eat more fruits and vegetables.  Deb will prepare a recipe featuring a seasonal fruit or vegetable.  Everyone attending will receive a sample of the recipe to taste and a free gift.
URL:https://jsyfruitveggies.org/workshop/free-jsy-nutrition-workshop-recipe-demo-university-united-methodist-church-food-pantry-syracuse-onondaga-county-2/
LOCATION:University United Methodist Church\, 1085 E. Genesee St. \, Syracuse\, NY\, 13224\, United States
CATEGORIES:Central NY
END:VEVENT
BEGIN:VEVENT
DTSTART;TZID=UTC:20160318T110000
DTEND;TZID=UTC:20160318T120000
DTSTAMP:20260420T145418
CREATED:20160226T234612Z
LAST-MODIFIED:20160226T234612Z
UID:6051-1458298800-1458302400@jsyfruitveggies.org
SUMMARY:FREE JSY Nutrition Workshop and Recipe Demo @ University United Methodist Church Food Pantry\, Syracuse\, Onondaga County
DESCRIPTION:Join JSY Registered Dietitian Nutritionist Deb for an interactive nutrition education workshop and recipe demonstration.  Come share your recipes and ideas for eating healthier as we talk about ways to eat more fruits and vegetables.  Deb will prepare a recipe featuring a seasonal fruit or vegetable.  Everyone attending will receive a sample of the recipe to taste and a free gift.
URL:https://jsyfruitveggies.org/workshop/free-jsy-nutrition-workshop-and-recipe-demo-university-united-methodist-church-food-pantry-syracuse-onondaga-county/
LOCATION:University United Methodist Church\, 1085 E. Genesee St. \, Syracuse\, NY\, 13224\, United States
CATEGORIES:Central NY
END:VEVENT
END:VCALENDAR