BEGIN:VCALENDAR
VERSION:2.0
PRODID:-//Just Say Yes - ECPv6.15.18//NONSGML v1.0//EN
CALSCALE:GREGORIAN
METHOD:PUBLISH
X-WR-CALNAME:Just Say Yes
X-ORIGINAL-URL:https://jsyfruitveggies.org
X-WR-CALDESC:Events for Just Say Yes
REFRESH-INTERVAL;VALUE=DURATION:PT1H
X-Robots-Tag:noindex
X-PUBLISHED-TTL:PT1H
BEGIN:VTIMEZONE
TZID:UTC
BEGIN:STANDARD
TZOFFSETFROM:+0000
TZOFFSETTO:+0000
TZNAME:UTC
DTSTART:20140101T000000
END:STANDARD
END:VTIMEZONE
BEGIN:VEVENT
DTSTART;TZID=UTC:20170728T090000
DTEND;TZID=UTC:20170728T100000
DTSTAMP:20260420T162641
CREATED:20161207T165503Z
LAST-MODIFIED:20170719T112333Z
UID:8326-1501232400-1501236000@jsyfruitveggies.org
SUMMARY:JSY Workshop and Recipe Demonstration at Stapleton UAME Church\, Richmond County\, NY
DESCRIPTION:Join nutritionist Delma for a fun and interactive nutrition workshop and cooking demo!
URL:https://jsyfruitveggies.org/workshop/jsy-workshop-recipe-demonstration-stapleton-uame/
LOCATION:Stapleton UAME Church\, 49 Tompkins Ave\, Staten Island\, NY\, 10304\, United States
CATEGORIES:NYC
ORGANIZER;CN="Delma":MAILTO:davila@foodbanknyc.org
END:VEVENT
BEGIN:VEVENT
DTSTART;TZID=UTC:20170630T083000
DTEND;TZID=UTC:20170630T093000
DTSTAMP:20260420T162641
CREATED:20170628T071148Z
LAST-MODIFIED:20170628T071148Z
UID:9256-1498811400-1498815000@jsyfruitveggies.org
SUMMARY:JSY Workshop and Recipe Demonstration at Stapleton UAME Church\, Richmond County
DESCRIPTION:Join nutritionist Delma for a fun and interactive nutrition workshop and cooking demo!
URL:https://jsyfruitveggies.org/workshop/jsy-workshop-recipe-demonstration-stapleton-uame-church-richmond-county-2/
LOCATION:Stapleton UAME Church\, 49 Tompkins Ave\, Staten Island\, NY\, 10304\, United States
CATEGORIES:NYC
ORGANIZER;CN="Delma":MAILTO:davila@foodbanknyc.org
END:VEVENT
BEGIN:VEVENT
DTSTART;TZID=UTC:20161118T083000
DTEND;TZID=UTC:20161118T093000
DTSTAMP:20260420T162641
CREATED:20161108T015759Z
LAST-MODIFIED:20161108T020541Z
UID:8153-1479457800-1479461400@jsyfruitveggies.org
SUMMARY:JSY Workshop and Recipe Demonstration at Stapleton UAME Church\, Richmond County
DESCRIPTION:Join nutritionist Delma for a fun and interactive nutrition workshop and cooking demo!
URL:https://jsyfruitveggies.org/workshop/jsy-workshop-recipe-demonstration-stapleton-uame-church-richmond-county/
LOCATION:Stapleton UAME Church\, 49 Tompkins Ave\, Staten Island\, NY\, 10304\, United States
CATEGORIES:NYC
ORGANIZER;CN="Delma":MAILTO:davila@foodbanknyc.org
END:VEVENT
BEGIN:VEVENT
DTSTART;TZID=UTC:20160909T090000
DTEND;TZID=UTC:20160909T100000
DTSTAMP:20260420T162641
CREATED:20151006T011013Z
LAST-MODIFIED:20160908T223139Z
UID:5096-1473411600-1473415200@jsyfruitveggies.org
SUMMARY:JSY Workshop and Recipe Demonstration at Stapleton UAME Church\, Richmond County\, NY
DESCRIPTION:JSY nutritionist Delma will provide nutrition education for food pantry clients. Come and taste a featured fruit or vegetable recipe!
URL:https://jsyfruitveggies.org/workshop/jsy-workshop-and-recipe-demonstration-at-stapleton-uame-church-richmond-county-ny/
LOCATION:Stapleton UAME Church\, 49 Tompkins Ave\, Staten Island\, NY\, 10304\, United States
CATEGORIES:NYC
ORGANIZER;CN="Delma":MAILTO:davila@foodbanknyc.org
END:VEVENT
BEGIN:VEVENT
DTSTART;TZID=UTC:20150904T090000
DTEND;TZID=UTC:20150904T100000
DTSTAMP:20260420T162641
CREATED:20150903T020555Z
LAST-MODIFIED:20150903T020555Z
UID:4012-1441357200-1441360800@jsyfruitveggies.org
SUMMARY:JSY Nutrition Workshop and Recipe Demonstration at the Stapleton UAME Church\, Richmond County\, NY
DESCRIPTION:Join Nutritionist Delma at the Stapleton UAME Church where she will prepare a delicious recipe and discuss food safety!
URL:https://jsyfruitveggies.org/workshop/jsy-nutrition-workshop-and-recipe-demonstration-at-the-stapleton-uame-church-richmond-county-ny/
LOCATION:Stapleton UAME Church\, 49 Tompkins Ave\, Staten Island\, NY\, 10304\, United States
CATEGORIES:NYC
ORGANIZER;CN="Delma":MAILTO:davila@foodbanknyc.org
END:VEVENT
BEGIN:VEVENT
DTSTART;TZID=UTC:20150904T090000
DTEND;TZID=UTC:20150904T100000
DTSTAMP:20260420T162641
CREATED:20150809T141137Z
LAST-MODIFIED:20150812T171840Z
UID:3562-1441357200-1441360800@jsyfruitveggies.org
SUMMARY:JSY Nutrition Workshop and Recipe Demonstration at Stapleton UAME Church\, Richmond County\, NY
DESCRIPTION:Join Nutritionist Delma at Stapleton UAME Church where she will prepare a delicious recipe and explore way to incorporate My Plate for better nutrition!
URL:https://jsyfruitveggies.org/workshop/jsy-nutrition-education-session-stapleton-uame-church-richmond-county-ny-2/
LOCATION:Stapleton UAME Church\, 49 Tompkins Ave\, Staten Island\, NY\, 10304\, United States
CATEGORIES:NYC
ORGANIZER;CN="Delma":MAILTO:davila@foodbanknyc.org
END:VEVENT
BEGIN:VEVENT
DTSTART;TZID=UTC:20150807T090000
DTEND;TZID=UTC:20150807T100000
DTSTAMP:20260420T162641
CREATED:20150806T224341Z
LAST-MODIFIED:20150812T172306Z
UID:3442-1438938000-1438941600@jsyfruitveggies.org
SUMMARY:JSY Nutrition Workshop and Recipe Demonstration at Stapleton UAME Church\, Richmond County\, NY
DESCRIPTION:Join Nutritionist Delma at Stapleton UAME Church where she will prepare a delicious recipe and explore easy ways to eat more fruits and veggies!
URL:https://jsyfruitveggies.org/workshop/jsy-nutrition-education-session-stapleton-uame-church-richmond-county-ny/
LOCATION:Stapleton UAME Church\, 49 Tompkins Ave\, Staten Island\, NY\, 10304\, United States
CATEGORIES:NYC
ORGANIZER;CN="Delma":MAILTO:davila@foodbanknyc.org
END:VEVENT
END:VCALENDAR