BEGIN:VCALENDAR
VERSION:2.0
PRODID:-//Just Say Yes - ECPv6.15.18//NONSGML v1.0//EN
CALSCALE:GREGORIAN
METHOD:PUBLISH
X-ORIGINAL-URL:https://jsyfruitveggies.org
X-WR-CALDESC:Events for Just Say Yes
REFRESH-INTERVAL;VALUE=DURATION:PT1H
X-Robots-Tag:noindex
X-PUBLISHED-TTL:PT1H
BEGIN:VTIMEZONE
TZID:UTC
BEGIN:STANDARD
TZOFFSETFROM:+0000
TZOFFSETTO:+0000
TZNAME:UTC
DTSTART:20140101T000000
END:STANDARD
END:VTIMEZONE
BEGIN:VEVENT
DTSTART;TZID=UTC:20160927T110000
DTEND;TZID=UTC:20160927T120000
DTSTAMP:20260420T114443
CREATED:20160812T191204Z
LAST-MODIFIED:20160812T191204Z
UID:7513-1474974000-1474977600@jsyfruitveggies.org
SUMMARY:JSY Nutrition Workshop\, St. Joseph's Food Pantry (Lee Center)
DESCRIPTION:Please join nutritionist\, Holly\, for a nutrition education and taste a delicious recipe. All participants will receive a free gift just for attending.
URL:https://jsyfruitveggies.org/workshop/jsy-nutrition-workshop-st-josephs-food-pantry-lee-center/
LOCATION:St. Joseph’s Food Pantry Lee Centre\, 5748 Stokes-Lee Ctr Rd\, Lee Centre\, NY\, 13363\, United States
CATEGORIES:Central NY
END:VEVENT
BEGIN:VEVENT
DTSTART;TZID=UTC:20160927T110000
DTEND;TZID=UTC:20160927T120000
DTSTAMP:20260420T114443
CREATED:20160811T180302Z
LAST-MODIFIED:20160811T180302Z
UID:7509-1474974000-1474977600@jsyfruitveggies.org
SUMMARY:JSY Nutrition Workshop
DESCRIPTION:Join JSY Nutritionist\, Holly\, for a nutrition workshop and recipe demonstration. Participants will taste a delicious recipe and receive a free gift for attending!
URL:https://jsyfruitveggies.org/workshop/jsy-nutrition-workshop-5/
LOCATION:St. Joseph’s Food Pantry Lee Centre\, 5748 Stokes-Lee Ctr Rd\, Lee Centre\, NY\, 13363\, United States
CATEGORIES:Central NY
END:VEVENT
BEGIN:VEVENT
DTSTART;TZID=UTC:20160616T110000
DTEND;TZID=UTC:20160616T120000
DTSTAMP:20260420T114443
CREATED:20160608T181452Z
LAST-MODIFIED:20160608T181452Z
UID:6958-1466074800-1466078400@jsyfruitveggies.org
SUMMARY:Free Cooking Demo and Nutrition Workshop at St. Joseph's Food Pantry-Lee Center
DESCRIPTION:Join Regional food Bank nutritionist\, Holly\, for an enjoyable and interactive food workshop and cooking demo promoting a seasonal fruit or vegetable. You will receive a delicious food sample\, recipe\, nutrition handout and a gift for your kitchen. Hope to see you there!
URL:https://jsyfruitveggies.org/workshop/free-cooking-demo-nutrition-workshop-st-josephs-food-pantry-lee-center-2/
LOCATION:St. Joseph’s Food Pantry Lee Centre\, 5748 Stokes-Lee Ctr Rd\, Lee Centre\, NY\, 13363\, United States
CATEGORIES:Central NY
END:VEVENT
BEGIN:VEVENT
DTSTART;TZID=UTC:20160616T110000
DTEND;TZID=UTC:20160616T120000
DTSTAMP:20260420T114443
CREATED:20160510T215359Z
LAST-MODIFIED:20160510T215359Z
UID:6421-1466074800-1466078400@jsyfruitveggies.org
SUMMARY:JSY Recipe Demo and Workshop @ St. Joseph's Food Pantry\, Lee Center\, Oneida County
DESCRIPTION:Join Food Bank of Central New York nutritionist\, Deb\, for a food demonstration highlighting a seasonal fruit or vegetable.  Sample a delicious recipe and receive a free gift!
URL:https://jsyfruitveggies.org/workshop/jsy-recipe-demo-workshop-st-josephs-food-pantry-lee-center-oneida-county-2/
LOCATION:St. Joseph’s Food Pantry Lee Centre\, 5748 Stokes-Lee Ctr Rd\, Lee Centre\, NY\, 13363\, United States
CATEGORIES:Central NY
END:VEVENT
BEGIN:VEVENT
DTSTART;TZID=UTC:20160107T110000
DTEND;TZID=UTC:20160107T120000
DTSTAMP:20260420T114443
CREATED:20151110T004605Z
LAST-MODIFIED:20151110T004605Z
UID:5382-1452164400-1452168000@jsyfruitveggies.org
SUMMARY:JSY Recipe Demo and Workshop @ St. Joseph's Food Pantry\, Lee Center\, Oneida County
DESCRIPTION:Join Food Bank of Central New York nutritionist\, Deb\, for a food demonstration highlighting a seasonal fruit or vegetable.  Sample a delicious recipe and receive a free gift!
URL:https://jsyfruitveggies.org/workshop/jsy-recipe-demo-and-workshop-st-josephs-food-pantry-lee-center-oneida-county/
LOCATION:St. Joseph’s Food Pantry Lee Centre\, 5748 Stokes-Lee Ctr Rd\, Lee Centre\, NY\, 13363\, United States
CATEGORIES:Central NY
END:VEVENT
BEGIN:VEVENT
DTSTART;TZID=UTC:20151008T110000
DTEND;TZID=UTC:20151008T120000
DTSTAMP:20260420T114443
CREATED:20150903T005904Z
LAST-MODIFIED:20150904T005009Z
UID:4000-1444302000-1444305600@jsyfruitveggies.org
SUMMARY:JSY Recipe Demo & Workshop @ St. Joseph's Food Pantry Lee Center\, Oneida County
DESCRIPTION:Join JSY Nutritionist\, Deb\, in an interactive workshop and recipe demonstration featuring a seasonal fruit or vegetable
URL:https://jsyfruitveggies.org/workshop/jsy-recipe-demo-workshop-st-josephs-food-pantry-oneida-county/
LOCATION:St. Joseph’s Food Pantry Lee Centre\, 5748 Stokes-Lee Ctr Rd\, Lee Centre\, NY\, 13363\, United States
CATEGORIES:Central NY
END:VEVENT
END:VCALENDAR