BEGIN:VCALENDAR
VERSION:2.0
PRODID:-//Just Say Yes - ECPv6.15.18//NONSGML v1.0//EN
CALSCALE:GREGORIAN
METHOD:PUBLISH
X-WR-CALNAME:Just Say Yes
X-ORIGINAL-URL:https://jsyfruitveggies.org
X-WR-CALDESC:Events for Just Say Yes
REFRESH-INTERVAL;VALUE=DURATION:PT1H
X-Robots-Tag:noindex
X-PUBLISHED-TTL:PT1H
BEGIN:VTIMEZONE
TZID:UTC
BEGIN:STANDARD
TZOFFSETFROM:+0000
TZOFFSETTO:+0000
TZNAME:UTC
DTSTART:20150101T000000
END:STANDARD
END:VTIMEZONE
BEGIN:VEVENT
DTSTART;TZID=UTC:20161026T133000
DTEND;TZID=UTC:20161026T143000
DTSTAMP:20260419T085753
CREATED:20161026T180123Z
LAST-MODIFIED:20161026T180123Z
UID:8045-1477488600-1477492200@jsyfruitveggies.org
SUMMARY:Nutrition Workshop & Cooking Demo: Hope Ministries\, Webster\, NY - Monroe County
DESCRIPTION:Come join JSY Nutritionist\, Jessica\, as she leads an interactive nutrition-based workshop! Taste a free sample of the delicious and fresh recipe she will be preparing and leave with a small gift to take home.
URL:https://jsyfruitveggies.org/workshop/nutrition-workshop-cooking-demo-hope-ministries-webster-ny-monroe-county-4/
LOCATION:Hope Ministries\, 1450 Ridge Rd\, Webster\, NY\, 14580\, United States
END:VEVENT
BEGIN:VEVENT
DTSTART;TZID=UTC:20161019T133000
DTEND;TZID=UTC:20161019T143000
DTSTAMP:20260419T085753
CREATED:20161026T003225Z
LAST-MODIFIED:20161026T003225Z
UID:8042-1476883800-1476887400@jsyfruitveggies.org
SUMMARY:Nutrition Workshop & Cooking Demo: Hope Ministries\, Webster\, NY - Monroe County
DESCRIPTION:Come join JSY Nutritionist\, Jessica\, as she leads an interactive nutrition-based workshop! Taste a free sample of the delicious and fresh recipe she will be preparing and leave with a small gift to take home.
URL:https://jsyfruitveggies.org/workshop/nutrition-workshop-cooking-demo-hope-ministries-webster-ny-monroe-county-3/
LOCATION:Hope Ministries\, 1450 Ridge Rd\, Webster\, NY\, 14580\, United States
END:VEVENT
BEGIN:VEVENT
DTSTART;TZID=UTC:20161012T133000
DTEND;TZID=UTC:20161012T143000
DTSTAMP:20260419T085753
CREATED:20161026T000635Z
LAST-MODIFIED:20161026T003133Z
UID:8041-1476279000-1476282600@jsyfruitveggies.org
SUMMARY:Nutrition Workshop & Cooking Demo: Hope Ministries\, Webster\, NY - Monroe County
DESCRIPTION:Come join JSY Nutritionist\, Jessica\, as she leads an interactive nutrition-based workshop! Taste a free sample of the delicious and fresh recipe she will be preparing and leave with a small gift to take home.
URL:https://jsyfruitveggies.org/workshop/nutrition-workshop-cooking-demo-hope-ministries-webster-ny-monroe-county-2/
LOCATION:Hope Ministries\, 1450 Ridge Rd\, Webster\, NY\, 14580\, United States
END:VEVENT
BEGIN:VEVENT
DTSTART;TZID=UTC:20161012T133000
DTEND;TZID=UTC:20161012T143000
DTSTAMP:20260419T085753
CREATED:20161008T000502Z
LAST-MODIFIED:20161008T000502Z
UID:7985-1476279000-1476282600@jsyfruitveggies.org
SUMMARY:Nutrition Workshop & Cooking Demo: Hope Ministries\, Webster\, NY - Monroe County
DESCRIPTION:Come join JSY Nutritionist\, Jessica\, as she teaches you about the benefits of beans! Taste a free sample of the delicious and fresh recipe she will be preparing and leave with a small gift to take home!
URL:https://jsyfruitveggies.org/workshop/nutrition-workshop-cooking-demo-hope-ministries-webster-ny-monroe-county/
LOCATION:Hope Ministries\, 1450 Ridge Rd\, Webster\, NY\, 14580\, United States
END:VEVENT
BEGIN:VEVENT
DTSTART;TZID=UTC:20160831T133000
DTEND;TZID=UTC:20160831T143000
DTSTAMP:20260419T085753
CREATED:20160716T013944Z
LAST-MODIFIED:20160831T004117Z
UID:7276-1472650200-1472653800@jsyfruitveggies.org
SUMMARY:Nutrition Workshop & Cooking Demo: Literacy West\, Belmont\, NY
DESCRIPTION:Come join JSY Nutritionist\, Jessica\, as she teaches you how to choose healthier beverages! Taste a free sample of the delicious and fresh recipe she will be preparing and leave with a small gift to take home!
URL:https://jsyfruitveggies.org/workshop/nutrition-workshop-cooking-demo-hope-ministries-webster-ny-5/
LOCATION:Hope Ministries\, 1450 Ridge Rd\, Webster\, NY\, 14580\, United States
END:VEVENT
BEGIN:VEVENT
DTSTART;TZID=UTC:20160824T133000
DTEND;TZID=UTC:20160824T143000
DTSTAMP:20260419T085753
CREATED:20160716T013832Z
LAST-MODIFIED:20160716T013832Z
UID:7275-1472045400-1472049000@jsyfruitveggies.org
SUMMARY:Nutrition Workshop & Cooking Demo: Hope Ministries\, Webster\, NY
DESCRIPTION:Come join JSY Nutritionist\, Jessica\, as she teaches you how to about Portion Sizes! Taste a free sample of the delicious and fresh recipe she will be preparing and leave with a small gift to take home!
URL:https://jsyfruitveggies.org/workshop/nutrition-workshop-cooking-demo-hope-ministries-webster-ny-4/
LOCATION:Hope Ministries\, 1450 Ridge Rd\, Webster\, NY\, 14580\, United States
END:VEVENT
BEGIN:VEVENT
DTSTART;TZID=UTC:20160817T080000
DTEND;TZID=UTC:20160817T170000
DTSTAMP:20260419T085753
CREATED:20160716T013514Z
LAST-MODIFIED:20160716T013728Z
UID:7273-1471420800-1471453200@jsyfruitveggies.org
SUMMARY:Nutrition Workshop & Cooking Demo: Hope Ministries\, Webster\, NY
DESCRIPTION:Come join JSY Nutritionist\, Jessica\, as she teaches you about the benefits of fiber! Taste a free sample of the delicious and fresh recipe she will be preparing and leave with a small gift to take home!
URL:https://jsyfruitveggies.org/workshop/nutrition-workshop-cooking-demo-hope-ministries-webster-ny-3/
LOCATION:Hope Ministries\, 1450 Ridge Rd\, Webster\, NY\, 14580\, United States
END:VEVENT
BEGIN:VEVENT
DTSTART;TZID=UTC:20160803T133000
DTEND;TZID=UTC:20160803T143000
DTSTAMP:20260419T085753
CREATED:20160716T013313Z
LAST-MODIFIED:20160716T013628Z
UID:7272-1470231000-1470234600@jsyfruitveggies.org
SUMMARY:Nutrition Workshop & Cooking Demo: Hope Ministries\, Webster\, NY
DESCRIPTION:Come join JSY Nutritionist\, Jessica\, as she teaches you how to keep your food safe! Taste a free sample of the delicious and fresh recipe she will be preparing and leave with a small gift to take home!
URL:https://jsyfruitveggies.org/workshop/nutrition-workshop-cooking-demo-hope-ministries-webster-ny-2/
LOCATION:Hope Ministries\, 1450 Ridge Rd\, Webster\, NY\, 14580\, United States
END:VEVENT
BEGIN:VEVENT
DTSTART;TZID=UTC:20160720T133000
DTEND;TZID=UTC:20160720T143000
DTSTAMP:20260419T085753
CREATED:20160716T004116Z
LAST-MODIFIED:20160716T004116Z
UID:7157-1469021400-1469025000@jsyfruitveggies.org
SUMMARY:Nutrition Workshop & Cooking Demo: Hope Ministries\, Webster\, NY
DESCRIPTION:Come join JSY Nutritionist\, Jessica\, as she teaches you how to stretch your food dollars! Taste a free sample of the delicious and fresh recipe she will be preparing and leave with a small gift to take home! \n 
URL:https://jsyfruitveggies.org/workshop/nutrition-workshop-cooking-demo-hope-ministries-webster-ny/
LOCATION:Hope Ministries\, 1450 Ridge Rd\, Webster\, NY\, 14580\, United States
END:VEVENT
BEGIN:VEVENT
DTSTART;TZID=UTC:20160720T013000
DTEND;TZID=UTC:20160720T143000
DTSTAMP:20260419T085753
CREATED:20160713T004011Z
LAST-MODIFIED:20160713T004011Z
UID:7223-1468978200-1469025000@jsyfruitveggies.org
SUMMARY:JSY Nutrition Education Workshop: Hope Ministries\, Webster\, Monroe County
DESCRIPTION:Jessica\, JSY Nutrition Educator\, will be conducting a fun and interactive workshop on how to stretch your food dollars and make the most of your food shopping! \n  \nCome by to learn something new and taste a sample of the delicious and healthy recipe she will be preparing!
URL:https://jsyfruitveggies.org/workshop/jsy-nutrition-education-workshop-hope-ministries-webster-monroe-county-4/
LOCATION:Hope Ministries\, 1450 Ridge Rd\, Webster\, NY\, 14580\, United States
END:VEVENT
BEGIN:VEVENT
DTSTART;TZID=UTC:20160713T013000
DTEND;TZID=UTC:20160713T143000
DTSTAMP:20260419T085753
CREATED:20160713T003727Z
LAST-MODIFIED:20160713T003727Z
UID:7222-1468373400-1468420200@jsyfruitveggies.org
SUMMARY:JSY Nutrition Education Workshop: Hope Ministries\, Webster\, Monroe County
DESCRIPTION:Jessica\, JSY Nutrition Educator\, will be conducting a fun and interactive workshop on MyPlate! Come by to learn something new about nutrition and taste a sample of the delicious and healthy recipe she will be preparing.
URL:https://jsyfruitveggies.org/workshop/jsy-nutrition-education-workshop-hope-ministries-webster-monroe-county-3/
LOCATION:Hope Ministries\, 1450 Ridge Rd\, Webster\, NY\, 14580\, United States
END:VEVENT
BEGIN:VEVENT
DTSTART;TZID=UTC:20160713T013000
DTEND;TZID=UTC:20160713T143000
DTSTAMP:20260419T085753
CREATED:20160706T220156Z
LAST-MODIFIED:20160706T220156Z
UID:7158-1468373400-1468420200@jsyfruitveggies.org
SUMMARY:JSY Nutrition Education Workshop: Hope Ministries\, Webster\, Monroe County
DESCRIPTION:Join JSY Nutritionist Jessica for an interactive and fun nutrition workshop on the MyPlate. You’ll have the chance to taste a delicious sample of the recipe she will be preparing and take home a small gift!
URL:https://jsyfruitveggies.org/workshop/jsy-nutrition-education-workshop-hope-ministries-webster-monroe-county/
LOCATION:Hope Ministries\, 1450 Ridge Rd\, Webster\, NY\, 14580\, United States
END:VEVENT
END:VCALENDAR