BEGIN:VCALENDAR
VERSION:2.0
PRODID:-//Just Say Yes - ECPv6.15.18//NONSGML v1.0//EN
CALSCALE:GREGORIAN
METHOD:PUBLISH
X-ORIGINAL-URL:https://jsyfruitveggies.org
X-WR-CALDESC:Events for Just Say Yes
REFRESH-INTERVAL;VALUE=DURATION:PT1H
X-Robots-Tag:noindex
X-PUBLISHED-TTL:PT1H
BEGIN:VTIMEZONE
TZID:UTC
BEGIN:STANDARD
TZOFFSETFROM:+0000
TZOFFSETTO:+0000
TZNAME:UTC
DTSTART:20150101T000000
END:STANDARD
END:VTIMEZONE
BEGIN:VEVENT
DTSTART;TZID=UTC:20161212T110000
DTEND;TZID=UTC:20161212T120000
DTSTAMP:20260420T145526
CREATED:20161115T203100Z
LAST-MODIFIED:20161116T235809Z
UID:8197-1481540400-1481544000@jsyfruitveggies.org
SUMMARY:Nutrition Workshop & Cooking Demo at Greece Community Education\, Rochester\, NY (Monroe County)
DESCRIPTION:Join Nutritionist Emma Denton as she presents a workshop on cooking foods safely. She will prepare a seasonal fruit or vegetable recipe for all to sample. Come for a taste and bring home some low-cost\, healthy\, and delicious recipes!
URL:https://jsyfruitveggies.org/workshop/nutrition-workshop-cooking-demo-greece-community-education-rochester-ny-monroe-county-4/
LOCATION:Greece Community Education\, 200 Alcott Road\, Rochester\, NY\, 14626\, United States
CATEGORIES:Rochester
END:VEVENT
BEGIN:VEVENT
DTSTART;TZID=UTC:20161128T110000
DTEND;TZID=UTC:20161128T120000
DTSTAMP:20260420T145526
CREATED:20161028T173513Z
LAST-MODIFIED:20161116T235931Z
UID:8063-1480330800-1480334400@jsyfruitveggies.org
SUMMARY:Nutrition Workshop & Cooking Demo at Greece Community Education\, Rochester\, NY (Monroe County)
DESCRIPTION:Join Nutritionist Emma Denton as she presents a workshop on stretching food dollars at home and in the store. She will prepare a seasonal fruit or vegetable recipe. Come taste a sample and bring home some recipe ideas!
URL:https://jsyfruitveggies.org/workshop/nutrition-workshop-cooking-demo-greece-community-education-rochester-ny-monroe-county-3/
LOCATION:Greece Community Education\, 200 Alcott Road\, Rochester\, NY\, 14626\, United States
CATEGORIES:Rochester
END:VEVENT
BEGIN:VEVENT
DTSTART;TZID=UTC:20161114T110000
DTEND;TZID=UTC:20161114T120000
DTSTAMP:20260420T145526
CREATED:20161025T002221Z
LAST-MODIFIED:20161117T000100Z
UID:8034-1479121200-1479124800@jsyfruitveggies.org
SUMMARY:Nutrition Workshop & Cooking Demo at Greece Community Education\, Rochester\, NY (Monroe County)
DESCRIPTION:Join Nutritionist Emma Denton as she presents a fun and interactive workshop on the new MyPlate guidelines. She will also prepare a delicious and simple fruit or vegetable recipe to sample. Come taste what’s cooking and bring some low-cost recipe ideas home!
URL:https://jsyfruitveggies.org/workshop/nutrition-workshop-cooking-demo-greece-community-education-rochester-ny-monroe-county-2/
LOCATION:Greece Community Education\, 200 Alcott Road\, Rochester\, NY\, 14626\, United States
CATEGORIES:Rochester
END:VEVENT
END:VCALENDAR