BEGIN:VCALENDAR
VERSION:2.0
PRODID:-//Just Say Yes - ECPv6.15.18//NONSGML v1.0//EN
CALSCALE:GREGORIAN
METHOD:PUBLISH
X-ORIGINAL-URL:https://jsyfruitveggies.org
X-WR-CALDESC:Events for Just Say Yes
REFRESH-INTERVAL;VALUE=DURATION:PT1H
X-Robots-Tag:noindex
X-PUBLISHED-TTL:PT1H
BEGIN:VTIMEZONE
TZID:UTC
BEGIN:STANDARD
TZOFFSETFROM:+0000
TZOFFSETTO:+0000
TZNAME:UTC
DTSTART:20150101T000000
END:STANDARD
END:VTIMEZONE
BEGIN:VEVENT
DTSTART;TZID=UTC:20171102T110000
DTEND;TZID=UTC:20171102T120000
DTSTAMP:20260420T151402
CREATED:20171101T214323Z
LAST-MODIFIED:20171101T214943Z
UID:10148-1509620400-1509624000@jsyfruitveggies.org
SUMMARY:Cooking Demo and Nutrition Workshop; Goodwill; Erie County
DESCRIPTION:Join nutrition educator Lauren for a food demonstration and nutrition workshop. She will prepare a recipe so you can taste something delicious and bring home a new kitchen gadget!
URL:https://jsyfruitveggies.org/workshop/cooking-demo-nutrition-workshop/
LOCATION:Goodwill Industries of WNY\, 1119 William Street\, Buffalo\, NY\, 14206\, United States
CATEGORIES:Western NY
END:VEVENT
BEGIN:VEVENT
DTSTART;TZID=UTC:20171026T110000
DTEND;TZID=UTC:20171026T120000
DTSTAMP:20260420T151402
CREATED:20171005T174702Z
LAST-MODIFIED:20171005T174702Z
UID:9898-1509015600-1509019200@jsyfruitveggies.org
SUMMARY:Food Demo and Nutrition Workshop; Goodwill; Erie County
DESCRIPTION:Join Lauren for a free\, food focused workshop! We will discuss a nutrition related topic\, make a quick\, easy recipe and sample the recipes! All are welcome!!
URL:https://jsyfruitveggies.org/workshop/food-demo-nutrition-workshop-goodwill-erie-county/
LOCATION:Goodwill Industries of WNY\, 1119 William Street\, Buffalo\, NY\, 14206\, United States
CATEGORIES:Western NY
END:VEVENT
BEGIN:VEVENT
DTSTART;TZID=UTC:20170706T110000
DTEND;TZID=UTC:20170706T120000
DTSTAMP:20260420T151402
CREATED:20170705T185558Z
LAST-MODIFIED:20170705T185558Z
UID:9267-1499338800-1499342400@jsyfruitveggies.org
SUMMARY:JSY Nutrition Workshop & Cooking Demonstration; Goodwill Industries; Erie County
DESCRIPTION:Join JSY Nutritionist\, Lauren\, for a nutrition workshop & recipe demonstration. Taste a fresh recipe and walk away with healthy tips as well as a fun kitchen incentive!
URL:https://jsyfruitveggies.org/workshop/jsy-nutrition-workshop-goodwill-industries-erie-county-2/
LOCATION:Goodwill Industries of WNY\, 1119 William Street\, Buffalo\, NY\, 14206\, United States
CATEGORIES:Western NY
END:VEVENT
BEGIN:VEVENT
DTSTART;TZID=UTC:20170705T110000
DTEND;TZID=UTC:20170705T120000
DTSTAMP:20260420T151402
CREATED:20170705T184936Z
LAST-MODIFIED:20170705T184936Z
UID:9265-1499252400-1499256000@jsyfruitveggies.org
SUMMARY:JSY Nutrition Workshop & Cooking Demonstration; Goodwill Industries; Erie County
DESCRIPTION:Join JSY Nutritionist\, Lauren\, for a nutrition workshop & recipe demonstration at the Farmers Market! Taste a fresh recipe and walk away with healthy tips as well as a fun incentive!
URL:https://jsyfruitveggies.org/workshop/jsy-nutrition-workshop-goodwill-industries-erie-county/
LOCATION:Goodwill Industries of WNY\, 1119 William Street\, Buffalo\, NY\, 14206\, United States
CATEGORIES:Western NY
END:VEVENT
BEGIN:VEVENT
DTSTART;TZID=UTC:20170504T110000
DTEND;TZID=UTC:20170504T120000
DTSTAMP:20260420T151402
CREATED:20170502T231654Z
LAST-MODIFIED:20170502T231654Z
UID:8981-1493895600-1493899200@jsyfruitveggies.org
SUMMARY:Nutrition Workshop and Cooking Demonstration; Goodwill; Erie County
DESCRIPTION:Join JSY Nutritionist\, Lauren\, for a fun and interactive workshop. We will discuss how to use MyPlate and the benefits it has. Try a tasty recipe as well as take home a kitchen tool to make eating more fruit and vegetables easier!
URL:https://jsyfruitveggies.org/workshop/nutrition-workshop-cooking-demonstration-goodwill-erie-county/
LOCATION:Goodwill Industries of WNY\, 1119 William Street\, Buffalo\, NY\, 14206\, United States
CATEGORIES:Western NY
END:VEVENT
BEGIN:VEVENT
DTSTART;TZID=UTC:20170406T110000
DTEND;TZID=UTC:20170406T120000
DTSTAMP:20260420T151402
CREATED:20170406T202438Z
LAST-MODIFIED:20170406T202438Z
UID:8830-1491476400-1491480000@jsyfruitveggies.org
SUMMARY:Nutrition Workshop and cooking demo; Goodwill\, Erie County
DESCRIPTION:Join JSY nutritionist\, Danyel\, for this fun and interactive workshop where we will discuss how to use MyPlate when planning your meals. Try a new recipe and take home a handy kitchen gadget to make preparing vegetables easier!
URL:https://jsyfruitveggies.org/workshop/nutrition-workshop-cooking-demo-goodwill-erie-county-2/
LOCATION:Goodwill Industries of WNY\, 1119 William Street\, Buffalo\, NY\, 14206\, United States
CATEGORIES:Western NY
END:VEVENT
BEGIN:VEVENT
DTSTART;TZID=UTC:20161201T110000
DTEND;TZID=UTC:20161201T120000
DTSTAMP:20260420T151402
CREATED:20161206T204348Z
LAST-MODIFIED:20161206T204348Z
UID:8300-1480590000-1480593600@jsyfruitveggies.org
SUMMARY:Nutrition Workshop & Cooking Demo: Goodwill Industries of WNY\, Erie County
DESCRIPTION:Join JSY Nutritionist\, Elyse\, for a fun and interactive workshop! Elyse will be discussing the importance of healthy portion sizes around the holidays!
URL:https://jsyfruitveggies.org/workshop/nutrition-workshop-cooking-demo-goodwill-industries-wny-erie-county/
LOCATION:Goodwill Industries of WNY\, 1119 William Street\, Buffalo\, NY\, 14206\, United States
CATEGORIES:Western NY
END:VEVENT
BEGIN:VEVENT
DTSTART;TZID=UTC:20161103T110000
DTEND;TZID=UTC:20161103T120000
DTSTAMP:20260420T151402
CREATED:20161104T194938Z
LAST-MODIFIED:20161104T194938Z
UID:8122-1478170800-1478174400@jsyfruitveggies.org
SUMMARY:Nutrition Workshop & Cooking Demo: Goodwill of WNY\, Erie County
DESCRIPTION:Join JSY Nutritionist\, Elyse\, for a fun and interactive nutrition workshop! Elyse will be discussing how to stretch your food dollars while cooking Black Bean Wraps for all to try!
URL:https://jsyfruitveggies.org/workshop/nutrition-workshop-cooking-demo-goodwill-wny-erie-county/
LOCATION:Goodwill Industries of WNY\, 1119 William Street\, Buffalo\, NY\, 14206\, United States
CATEGORIES:Western NY
END:VEVENT
BEGIN:VEVENT
DTSTART;TZID=UTC:20161006T110000
DTEND;TZID=UTC:20161006T120000
DTSTAMP:20260420T151402
CREATED:20160921T174252Z
LAST-MODIFIED:20160921T174252Z
UID:7826-1475751600-1475755200@jsyfruitveggies.org
SUMMARY:Nutrition Workshop & Cooking Demo: Goodwill\, Erie County
DESCRIPTION:Join JSY Nutritionist\, Elyse\, for a fun and interactive nutrition workshop and cooking demo! Elyse will be discussing the importance of getting enough fruits and veggies in your diet and preparing a recipe that includes both!
URL:https://jsyfruitveggies.org/workshop/nutrition-workshop-cooking-demo-goodwill-erie-county/
LOCATION:Goodwill Industries of WNY\, 1119 William Street\, Buffalo\, NY\, 14206\, United States
CATEGORIES:Western NY
END:VEVENT
END:VCALENDAR