BEGIN:VCALENDAR
VERSION:2.0
PRODID:-//Just Say Yes - ECPv6.15.18//NONSGML v1.0//EN
CALSCALE:GREGORIAN
METHOD:PUBLISH
X-ORIGINAL-URL:https://jsyfruitveggies.org
X-WR-CALDESC:Events for Just Say Yes
REFRESH-INTERVAL;VALUE=DURATION:PT1H
X-Robots-Tag:noindex
X-PUBLISHED-TTL:PT1H
BEGIN:VTIMEZONE
TZID:UTC
BEGIN:STANDARD
TZOFFSETFROM:+0000
TZOFFSETTO:+0000
TZNAME:UTC
DTSTART:20150101T000000
END:STANDARD
END:VTIMEZONE
BEGIN:VEVENT
DTSTART;TZID=UTC:20160805T100000
DTEND;TZID=UTC:20160805T110000
DTSTAMP:20260424T043444
CREATED:20160613T202332Z
LAST-MODIFIED:20160613T202332Z
UID:6993-1470391200-1470394800@jsyfruitveggies.org
SUMMARY:JSY Workshop and Recipe Demo @ CCCC Roots and Wings Pantry\, Norwich\, Chenango County
DESCRIPTION:Join JSY Registered Dietitian Nutritionist Deb for an interactive nutrition education workshop and recipe demonstration.  Come share your recipes and ideas for eating healthier as we talk about ways to eat more fruits and vegetables.  Deb will prepare a recipe featuring a seasonal fruit or vegetable.  Everyone attending will receive a sample of the recipe to taste and a free gift.
URL:https://jsyfruitveggies.org/workshop/jsy-workshop-recipe-demo-cccc-roots-wings-pantry-norwich-chenango-county/
LOCATION:CCCC Roots and Wings Pantry\, 34-36 Berry St. \, Norwich \, NY\, 13815\, United States
CATEGORIES:Central NY
END:VEVENT
END:VCALENDAR