BEGIN:VCALENDAR
VERSION:2.0
PRODID:-//Just Say Yes - ECPv6.15.18//NONSGML v1.0//EN
CALSCALE:GREGORIAN
METHOD:PUBLISH
X-ORIGINAL-URL:https://jsyfruitveggies.org
X-WR-CALDESC:Events for Just Say Yes
REFRESH-INTERVAL;VALUE=DURATION:PT1H
X-Robots-Tag:noindex
X-PUBLISHED-TTL:PT1H
BEGIN:VTIMEZONE
TZID:UTC
BEGIN:STANDARD
TZOFFSETFROM:+0000
TZOFFSETTO:+0000
TZNAME:UTC
DTSTART:20140101T000000
END:STANDARD
END:VTIMEZONE
BEGIN:VEVENT
DTSTART;TZID=UTC:20160719T104500
DTEND;TZID=UTC:20160719T114500
DTSTAMP:20260420T051213
CREATED:20160712T003612Z
LAST-MODIFIED:20160712T003612Z
UID:7214-1468925100-1468928700@jsyfruitveggies.org
SUMMARY:JSY Nutrition Workshop: Big Flats Food Pantry\, Big Flats\, Chemung County
DESCRIPTION:Join us for a food focused workshop! We will discuss and answer nutrition questions\, make a quick\, easy recipe together and of course\, eat!
URL:https://jsyfruitveggies.org/workshop/jsy-nutrition-workshop-big-flats-food-pantry-big-flats-chemung-county/
LOCATION:Big Flats Community Pantry\, 95 Main St\, Big Flats\, NY\, 14814\, United States
CATEGORIES:Southern Tier
ORGANIZER;CN="Elisa":MAILTO:ebernardo@feedingamerica.org
END:VEVENT
BEGIN:VEVENT
DTSTART;TZID=UTC:20160119T110000
DTEND;TZID=UTC:20160119T114500
DTSTAMP:20260420T051213
CREATED:20160101T020905Z
LAST-MODIFIED:20160101T020905Z
UID:5699-1453201200-1453203900@jsyfruitveggies.org
SUMMARY:JSY Nutrition Workshop: Big Flats Community Pantry\, Big Flats\, Chemung County
DESCRIPTION:Join us for a food focused workshop! We will discuss and answer nutrition questions\, make a quick\, easy recipe together and of course\, eat!
URL:https://jsyfruitveggies.org/workshop/jsy-nutrition-workshop-big-flats-community-pantry-big-flats-chemung-county-2/
LOCATION:Big Flats Community Pantry\, 95 Main St\, Big Flats\, NY\, 14814\, United States
CATEGORIES:Southern Tier
ORGANIZER;CN="Elisa":MAILTO:ebernardo@feedingamerica.org
END:VEVENT
BEGIN:VEVENT
DTSTART;TZID=UTC:20150818T110000
DTEND;TZID=UTC:20150818T120000
DTSTAMP:20260420T051213
CREATED:20150806T194327Z
LAST-MODIFIED:20150806T194327Z
UID:3420-1439895600-1439899200@jsyfruitveggies.org
SUMMARY:JSY Nutrition Workshop: Big Flats Community Pantry\, Big Flats\, Chemung County
DESCRIPTION:Join us for a food focused workshop! We will discuss and answer nutrition questions\, make a quick\, easy recipe together and of course\, eat!
URL:https://jsyfruitveggies.org/workshop/jsy-nutrition-workshop-big-flats-community-pantry-big-flats-chemung-county/
LOCATION:Big Flats Community Pantry\, 95 Main St\, Big Flats\, NY\, 14814\, United States
CATEGORIES:Southern Tier
ORGANIZER;CN="Elisa":MAILTO:ebernardo@feedingamerica.org
END:VEVENT
END:VCALENDAR